BEGIN:VCALENDAR
VERSION:2.0
PRODID:jazz-concerts.com
METHOD:PUBLISH
SEQUENCE:1776812672
BEGIN:VEVENT
UID:jazz-concerts.com-1-43354
DTSTAMP:20260422T010432
DTSTART:20260428T200000
DTEND:20260428T220000
SUMMARY:Scott Bradlees Postmodern Jukebox
LOCATION:Salle Pleyel Rue du Faubourg Saint-Honoré 252\, 75008 Paris\, Frankreich
DESCRIPTION:Tickets / Eintrittskarten: https://jazz-concerts.com/de/event/43354\n\nScott Bradlees Postmodern Jukebox\n\n
END:VEVENT
END:VCALENDAR
