BEGIN:VCALENDAR
VERSION:2.0
PRODID:jazz-concerts.com
METHOD:PUBLISH
SEQUENCE:1776782048
BEGIN:VEVENT
UID:jazz-concerts.com-1-43348
DTSTAMP:20260421T163408
DTSTART:20260620T210000
DTEND:20260620T230000
SUMMARY:Journey to the Source
LOCATION:b flat Acoustic Music & Jazz Club Dircksenstraße 40\, 10178 Berlin\, Deutschland
DESCRIPTION:Tickets / Eintrittskarten: https://jazz-concerts.com/de/event/43348\n\nJourney to the Source\n\n
END:VEVENT
END:VCALENDAR
