BEGIN:VCALENDAR
VERSION:2.0
PRODID:jazz-concerts.com
METHOD:PUBLISH
SEQUENCE:1776782046
BEGIN:VEVENT
UID:jazz-concerts.com-1-43347
DTSTAMP:20260421T163406
DTSTART:20260619T210000
DTEND:20260619T230000
SUMMARY:Journey to the Source
LOCATION:b flat Acoustic Music & Jazz Club Dircksenstraße 40\, 10178 Berlin\, Deutschland
DESCRIPTION:Tickets / Eintrittskarten: https://jazz-concerts.com/de/event/43347\n\nJourney to the Source\n\n
END:VEVENT
END:VCALENDAR
