BEGIN:VCALENDAR
VERSION:2.0
PRODID:jazz-concerts.com
METHOD:PUBLISH
SEQUENCE:1776781508
BEGIN:VEVENT
UID:jazz-concerts.com-1-43345
DTSTAMP:20260421T162508
DTSTART:20260525T203000
DTEND:20260525T223000
SUMMARY:Tribute to Miles
LOCATION:A-Trane Bleibtreustraße 1\, 10623 Berlin\, Deutschland
DESCRIPTION:Tickets / Eintrittskarten: https://jazz-concerts.com/de/event/43345\n\nTribute to Miles\n\n
END:VEVENT
END:VCALENDAR
