BEGIN:VCALENDAR
VERSION:2.0
PRODID:jazz-concerts.com
METHOD:PUBLISH
SEQUENCE:1776806311
BEGIN:VEVENT
UID:jazz-concerts.com-1-43344
DTSTAMP:20260421T231831
DTSTART:20260513T201500
DTEND:20260513T221500
SUMMARY:Rolf Zielke Trio
LOCATION:Badenscher Hof Jazzclub und Restaurant Badensche Straße 29\, 10715 Berlin\, Deutschland
DESCRIPTION:Tickets / Eintrittskarten: https://jazz-concerts.com/de/event/43344\n\nRolf Zielke Trio\n\n
END:VEVENT
END:VCALENDAR
