BEGIN:VCALENDAR
VERSION:2.0
PRODID:jazz-concerts.com
METHOD:PUBLISH
SEQUENCE:1776776442
BEGIN:VEVENT
UID:jazz-concerts.com-1-43342
DTSTAMP:20260421T150042
DTSTART:20260515T184000
DTEND:20260515T204000
SUMMARY:John Scofield & Gerald Clayton
LOCATION:Ronnie Scott’s Jazz Club Frith Street 47\, W1D 4HT London\, Vereinigtes Königreich
DESCRIPTION:Tickets / Eintrittskarten: https://jazz-concerts.com/de/event/43342\n\nJohn Scofield & Gerald Clayton\n\n
END:VEVENT
END:VCALENDAR
