BEGIN:VCALENDAR
VERSION:2.0
PRODID:jazz-concerts.com
METHOD:PUBLISH
SEQUENCE:1776737010
BEGIN:VEVENT
UID:jazz-concerts.com-1-43333
DTSTAMP:20260421T040330
DTSTART:20260509T211500
DTEND:20260509T231500
SUMMARY:Vanessa Haynes presents Aretha Franklin - Queen of Soul
LOCATION:Ronnie Scott’s Jazz Club Frith Street 47\, W1D 4HT London\, Vereinigtes Königreich
DESCRIPTION:Tickets / Eintrittskarten: https://jazz-concerts.com/de/event/43333\n\nVanessa Haynes presents Aretha Franklin - Queen of Soul\n\n
END:VEVENT
END:VCALENDAR
