BEGIN:VCALENDAR
VERSION:2.0
PRODID:jazz-concerts.com
METHOD:PUBLISH
SEQUENCE:1776723914
BEGIN:VEVENT
UID:jazz-concerts.com-1-43326
DTSTAMP:20260421T002514
DTSTART:20260506T182000
DTEND:20260506T202000
SUMMARY:Natalie Williams & Jamie Safir Trio
LOCATION:Ronnie Scott’s Jazz Club Frith Street 47\, W1D 4HT London\, Vereinigtes Königreich
DESCRIPTION:Tickets / Eintrittskarten: https://jazz-concerts.com/de/event/43326\n\nNatalie Williams & Jamie Safir Trio\n\n
END:VEVENT
END:VCALENDAR
