BEGIN:VCALENDAR
VERSION:2.0
PRODID:jazz-concerts.com
METHOD:PUBLISH
SEQUENCE:1776720959
BEGIN:VEVENT
UID:jazz-concerts.com-1-43322
DTSTAMP:20260420T233559
DTSTART:20260505T184000
DTEND:20260505T204000
SUMMARY:Lady Blackbird
LOCATION:Ronnie Scott’s Jazz Club Frith Street 47\, W1D 4HT London\, Vereinigtes Königreich
DESCRIPTION:Tickets / Eintrittskarten: https://jazz-concerts.com/de/event/43322\n\nLady Blackbird\n\n
END:VEVENT
END:VCALENDAR
