BEGIN:VCALENDAR
VERSION:2.0
PRODID:jazz-concerts.com
METHOD:PUBLISH
SEQUENCE:1776699043
BEGIN:VEVENT
UID:jazz-concerts.com-1-43316
DTSTAMP:20260420T173043
DTSTART:20260502T213000
DTEND:20260502T233000
SUMMARY:New Jazz Underground
LOCATION:Ronnie Scott’s Jazz Club Frith Street 47\, W1D 4HT London\, Vereinigtes Königreich
DESCRIPTION:Tickets / Eintrittskarten: https://jazz-concerts.com/de/event/43316\n\nNew Jazz Underground\n\n
END:VEVENT
END:VCALENDAR
