BEGIN:VCALENDAR
VERSION:2.0
PRODID:jazz-concerts.com
METHOD:PUBLISH
SEQUENCE:1776715574
BEGIN:VEVENT
UID:jazz-concerts.com-1-43312
DTSTAMP:20260420T220614
DTSTART:20260430T203000
DTEND:20260430T223000
SUMMARY:JustKing Jones Quartet
LOCATION:Ronnie Scott’s Jazz Club Frith Street 47\, W1D 4HT London\, Vereinigtes Königreich
DESCRIPTION:Tickets / Eintrittskarten: https://jazz-concerts.com/de/event/43312\n\nJustKing Jones Quartet\n\n
END:VEVENT
END:VCALENDAR
