BEGIN:VCALENDAR
VERSION:2.0
PRODID:jazz-concerts.com
METHOD:PUBLISH
SEQUENCE:1776776442
BEGIN:VEVENT
UID:jazz-concerts.com-1-43311
DTSTAMP:20260421T150042
DTSTART:20260430T173000
DTEND:20260430T193000
SUMMARY:Jacques Schwarz-Bart Quartet
LOCATION:Ronnie Scott’s Jazz Club Frith Street 47\, W1D 4HT London\, Vereinigtes Königreich
DESCRIPTION:Tickets / Eintrittskarten: https://jazz-concerts.com/de/event/43311\n\nJacques Schwarz-Bart Quartet\n\n
END:VEVENT
END:VCALENDAR
