BEGIN:VCALENDAR
VERSION:2.0
PRODID:jazz-concerts.com
METHOD:PUBLISH
SEQUENCE:1776718833
BEGIN:VEVENT
UID:jazz-concerts.com-1-43309
DTSTAMP:20260420T230033
DTSTART:20260625T182000
DTEND:20260625T202000
SUMMARY:Vanessa Haynes Quintet
LOCATION:Ronnie Scott’s Jazz Club Frith Street 47\, W1D 4HT London\, Vereinigtes Königreich
DESCRIPTION:Tickets / Eintrittskarten: https://jazz-concerts.com/de/event/43309\n\nVanessa Haynes Quintet\n\n
END:VEVENT
END:VCALENDAR
