BEGIN:VCALENDAR
VERSION:2.0
PRODID:jazz-concerts.com
METHOD:PUBLISH
SEQUENCE:1776718834
BEGIN:VEVENT
UID:jazz-concerts.com-1-43308
DTSTAMP:20260420T230034
DTSTART:20260528T213000
DTEND:20260528T233000
SUMMARY:Vanessa Haynes Quintet
LOCATION:Ronnie Scott’s Jazz Club Frith Street 47\, W1D 4HT London\, Vereinigtes Königreich
DESCRIPTION:Tickets / Eintrittskarten: https://jazz-concerts.com/de/event/43308\n\nVanessa Haynes Quintet\n\n
END:VEVENT
END:VCALENDAR
