BEGIN:VCALENDAR
VERSION:2.0
PRODID:jazz-concerts.com
METHOD:PUBLISH
SEQUENCE:1776699042
BEGIN:VEVENT
UID:jazz-concerts.com-1-43299
DTSTAMP:20260420T173042
DTSTART:20260428T184000
DTEND:20260428T204000
SUMMARY:Bill Evans & The VansBand
LOCATION:Ronnie Scott’s Jazz Club Frith Street 47\, W1D 4HT London\, Vereinigtes Königreich
DESCRIPTION:Tickets / Eintrittskarten: https://jazz-concerts.com/de/event/43299\n\nBill Evans & The VansBand\n\n
END:VEVENT
END:VCALENDAR
