BEGIN:VCALENDAR
VERSION:2.0
PRODID:jazz-concerts.com
METHOD:PUBLISH
SEQUENCE:1776697578
BEGIN:VEVENT
UID:jazz-concerts.com-1-43292
DTSTAMP:20260420T170618
DTSTART:20260423T173000
DTEND:20260423T193000
SUMMARY:Kaisa's Machine
LOCATION:Ronnie Scott’s Jazz Club Frith Street 47\, W1D 4HT London\, Vereinigtes Königreich
DESCRIPTION:Tickets / Eintrittskarten: https://jazz-concerts.com/de/event/43292\n\nKaisa's Machine\n\n
END:VEVENT
END:VCALENDAR
