BEGIN:VCALENDAR
VERSION:2.0
PRODID:jazz-concerts.com
METHOD:PUBLISH
SEQUENCE:1776702171
BEGIN:VEVENT
UID:jazz-concerts.com-1-43285
DTSTAMP:20260420T182251
DTSTART:20261126T200000
DTEND:20261126T220000
SUMMARY:Rebekka Bakken
LOCATION:Redoutensaal - Erlangen Theaterplatz 1\, 91054 Erlangen\, Deutschland
DESCRIPTION:Tickets / Eintrittskarten: https://jazz-concerts.com/de/event/43285\n\nRebekka Bakken\n\n
END:VEVENT
END:VCALENDAR
