BEGIN:VCALENDAR
VERSION:2.0
PRODID:jazz-concerts.com
METHOD:PUBLISH
SEQUENCE:1776698425
BEGIN:VEVENT
UID:jazz-concerts.com-1-43284
DTSTAMP:20260420T172025
DTSTART:20261117T200000
DTEND:20261117T220000
SUMMARY:Rebekka Bakken
LOCATION:Burghof Lörrach Herrenstraße 5\, 79539 Lörrach\, Deutschland
DESCRIPTION:Tickets / Eintrittskarten: https://jazz-concerts.com/de/event/43284\n\nRebekka Bakken\n\n
END:VEVENT
END:VCALENDAR
