BEGIN:VCALENDAR
VERSION:2.0
PRODID:jazz-concerts.com
METHOD:PUBLISH
SEQUENCE:1776692914
BEGIN:VEVENT
UID:jazz-concerts.com-1-43283
DTSTAMP:20260420T154834
DTSTART:20261115T190000
DTEND:20261115T210000
SUMMARY:Rebekka Bakken
LOCATION:Kulturzentrum franz.K Unter den Linden 23\, 72762 Reutlingen\, Deutschland
DESCRIPTION:Tickets / Eintrittskarten: https://jazz-concerts.com/de/event/43283\n\nRebekka Bakken\n\n
END:VEVENT
END:VCALENDAR
