BEGIN:VCALENDAR
VERSION:2.0
PRODID:jazz-concerts.com
METHOD:PUBLISH
SEQUENCE:1776697578
BEGIN:VEVENT
UID:jazz-concerts.com-1-43277
DTSTAMP:20260420T170618
DTSTART:20260517T180000
DTEND:20260517T200000
SUMMARY:Rebekka Bakken Trio
LOCATION:Kunsthaus Weiz Rathausgasse 3\, 8160 Weiz\, Österreich
DESCRIPTION:Tickets / Eintrittskarten: https://jazz-concerts.com/de/event/43277\n\nRebekka Bakken Trio\n\n
END:VEVENT
END:VCALENDAR
