BEGIN:VCALENDAR
VERSION:2.0
PRODID:jazz-concerts.com
METHOD:PUBLISH
SEQUENCE:1776702171
BEGIN:VEVENT
UID:jazz-concerts.com-1-43272
DTSTAMP:20260420T182251
DTSTART:20270311T200000
DTEND:20270311T220000
SUMMARY:Rebekka Bakken
LOCATION:Kulturraffinerie K714 Rheinparkallee\, 40789 Monheim am Rhein\, Deutschland
DESCRIPTION:Tickets / Eintrittskarten: https://jazz-concerts.com/de/event/43272\n\nRebekka Bakken\n\n
END:VEVENT
END:VCALENDAR
