BEGIN:VCALENDAR
VERSION:2.0
PRODID:jazz-concerts.com
METHOD:PUBLISH
SEQUENCE:1776645645
BEGIN:VEVENT
UID:jazz-concerts.com-1-43270
DTSTAMP:20260420T024045
DTSTART:20260504T213000
DTEND:20260504T233000
SUMMARY:Charmaine Neville Band with Wendell Brunious
LOCATION:Snug Harbor Jazz Bistro Frenchmen Street 626\, 70116 New Orleans\, USA
DESCRIPTION:Tickets / Eintrittskarten: https://jazz-concerts.com/de/event/43270\n\nCharmaine Neville Band with Wendell Brunious\n\n
END:VEVENT
END:VCALENDAR
