BEGIN:VCALENDAR
VERSION:2.0
PRODID:jazz-concerts.com
METHOD:PUBLISH
SEQUENCE:1776649619
BEGIN:VEVENT
UID:jazz-concerts.com-1-43267
DTSTAMP:20260420T034659
DTSTART:20260503T200000
DTEND:20260503T220000
SUMMARY:Judith Owen presents 'Suit Yourself'
LOCATION:Snug Harbor Jazz Bistro Frenchmen Street 626\, 70116 New Orleans\, USA
DESCRIPTION:Tickets / Eintrittskarten: https://jazz-concerts.com/de/event/43267\n\nJudith Owen presents 'Suit Yourself'\n\n
END:VEVENT
END:VCALENDAR
