BEGIN:VCALENDAR
VERSION:2.0
PRODID:jazz-concerts.com
METHOD:PUBLISH
SEQUENCE:1776620450
BEGIN:VEVENT
UID:jazz-concerts.com-1-43261
DTSTAMP:20260419T194050
DTSTART:20260501T200000
DTEND:20260501T220000
SUMMARY:Jason Marsalis' Tribute to Ellis Marsalis wsg Jon Cowherd & Victor Goines
LOCATION:Snug Harbor Jazz Bistro Frenchmen Street 626\, 70116 New Orleans\, USA
DESCRIPTION:Tickets / Eintrittskarten: https://jazz-concerts.com/de/event/43261\n\nJason Marsalis' Tribute to Ellis Marsalis wsg Jon Cowherd & Victor Goines\n\n
END:VEVENT
END:VCALENDAR
