BEGIN:VCALENDAR
VERSION:2.0
PRODID:jazz-concerts.com
METHOD:PUBLISH
SEQUENCE:1776725362
BEGIN:VEVENT
UID:jazz-concerts.com-1-43260
DTSTAMP:20260421T004922
DTSTART:20260430T235900
DTEND:20260501T015900
SUMMARY:Trumpet Mafia with Cyrille Aimee
LOCATION:Snug Harbor Jazz Bistro Frenchmen Street 626\, 70116 New Orleans\, USA
DESCRIPTION:Tickets / Eintrittskarten: https://jazz-concerts.com/de/event/43260\n\nTrumpet Mafia with Cyrille Aimee\n\n
END:VEVENT
END:VCALENDAR
