BEGIN:VCALENDAR
VERSION:2.0
PRODID:jazz-concerts.com
METHOD:PUBLISH
SEQUENCE:1776725341
BEGIN:VEVENT
UID:jazz-concerts.com-1-43259
DTSTAMP:20260421T004901
DTSTART:20260430T220000
DTEND:20260501T000000
SUMMARY:Trumpet Mafia with Cyrille Aimee
LOCATION:Snug Harbor Jazz Bistro Frenchmen Street 626\, 70116 New Orleans\, USA
DESCRIPTION:Tickets / Eintrittskarten: https://jazz-concerts.com/de/event/43259\n\nTrumpet Mafia with Cyrille Aimee\n\n
END:VEVENT
END:VCALENDAR
