BEGIN:VCALENDAR
VERSION:2.0
PRODID:jazz-concerts.com
METHOD:PUBLISH
SEQUENCE:1776631207
BEGIN:VEVENT
UID:jazz-concerts.com-1-43257
DTSTAMP:20260419T224007
DTSTART:20260429T213000
DTEND:20260429T233000
SUMMARY:Delfeayo Marsalis & The Uptown Jazz Orchestra
LOCATION:Snug Harbor Jazz Bistro Frenchmen Street 626\, 70116 New Orleans\, USA
DESCRIPTION:Tickets / Eintrittskarten: https://jazz-concerts.com/de/event/43257\n\nDelfeayo Marsalis & The Uptown Jazz Orchestra\n\n
END:VEVENT
END:VCALENDAR
