BEGIN:VCALENDAR
VERSION:2.0
PRODID:jazz-concerts.com
METHOD:PUBLISH
SEQUENCE:1776631207
BEGIN:VEVENT
UID:jazz-concerts.com-1-43256
DTSTAMP:20260419T224007
DTSTART:20260429T193000
DTEND:20260429T213000
SUMMARY:Delfeayo Marsalis & The Uptown Jazz Orchestra
LOCATION:Snug Harbor Jazz Bistro Frenchmen Street 626\, 70116 New Orleans\, USA
DESCRIPTION:Tickets / Eintrittskarten: https://jazz-concerts.com/de/event/43256\n\nDelfeayo Marsalis & The Uptown Jazz Orchestra\n\n
END:VEVENT
END:VCALENDAR
