BEGIN:VCALENDAR
VERSION:2.0
PRODID:jazz-concerts.com
METHOD:PUBLISH
SEQUENCE:1776622568
BEGIN:VEVENT
UID:jazz-concerts.com-1-43247
DTSTAMP:20260419T201608
DTSTART:20260425T163000
DTEND:20260425T183000
SUMMARY:Washboard Chaz Blues Trio
LOCATION:Snug Harbor Jazz Bistro Frenchmen Street 626\, 70116 New Orleans\, USA
DESCRIPTION:Tickets / Eintrittskarten: https://jazz-concerts.com/de/event/43247\n\nWashboard Chaz Blues Trio\n\n
END:VEVENT
END:VCALENDAR
