BEGIN:VCALENDAR
VERSION:2.0
PRODID:jazz-concerts.com
METHOD:PUBLISH
SEQUENCE:1776622568
BEGIN:VEVENT
UID:jazz-concerts.com-1-43246
DTSTAMP:20260419T201608
DTSTART:20260424T220000
DTEND:20260425T000000
SUMMARY:Jon Cleary with Pedro Segundo
LOCATION:Snug Harbor Jazz Bistro Frenchmen Street 626\, 70116 New Orleans\, USA
DESCRIPTION:Tickets / Eintrittskarten: https://jazz-concerts.com/de/event/43246\n\nJon Cleary with Pedro Segundo\n\n
END:VEVENT
END:VCALENDAR
