BEGIN:VCALENDAR
VERSION:2.0
PRODID:jazz-concerts.com
METHOD:PUBLISH
SEQUENCE:1776622571
BEGIN:VEVENT
UID:jazz-concerts.com-1-43243
DTSTAMP:20260419T201611
DTSTART:20260423T200000
DTEND:20260423T220000
SUMMARY:David Navarro & Horacio "El Negro" Jazz Cubano
LOCATION:Snug Harbor Jazz Bistro Frenchmen Street 626\, 70116 New Orleans\, USA
DESCRIPTION:Tickets / Eintrittskarten: https://jazz-concerts.com/de/event/43243\n\nDavid Navarro & Horacio "El Negro" Jazz Cubano\n\n
END:VEVENT
END:VCALENDAR
