BEGIN:VCALENDAR
VERSION:2.0
PRODID:jazz-concerts.com
METHOD:PUBLISH
SEQUENCE:1776622568
BEGIN:VEVENT
UID:jazz-concerts.com-1-43241
DTSTAMP:20260419T201608
DTSTART:20260422T193000
DTEND:20260422T213000
SUMMARY:Delfeayo Marsalis & The Uptown Jazz Orchestra
LOCATION:Snug Harbor Jazz Bistro Frenchmen Street 626\, 70116 New Orleans\, USA
DESCRIPTION:Tickets / Eintrittskarten: https://jazz-concerts.com/de/event/43241\n\nDelfeayo Marsalis & The Uptown Jazz Orchestra\n\n
END:VEVENT
END:VCALENDAR
