BEGIN:VCALENDAR
VERSION:2.0
PRODID:jazz-concerts.com
METHOD:PUBLISH
SEQUENCE:1776622571
BEGIN:VEVENT
UID:jazz-concerts.com-1-43240
DTSTAMP:20260419T201611
DTSTART:20260422T170000
DTEND:20260422T190000
SUMMARY:Jill Butler's Joyride
LOCATION:Snug Harbor Jazz Bistro Frenchmen Street 626\, 70116 New Orleans\, USA
DESCRIPTION:Tickets / Eintrittskarten: https://jazz-concerts.com/de/event/43240\n\nJill Butler's Joyride\n\n
END:VEVENT
END:VCALENDAR
