BEGIN:VCALENDAR
VERSION:2.0
PRODID:jazz-concerts.com
METHOD:PUBLISH
SEQUENCE:1776622567
BEGIN:VEVENT
UID:jazz-concerts.com-1-43239
DTSTAMP:20260419T201607
DTSTART:20260421T213000
DTEND:20260421T233000
SUMMARY:Sally Baby's Silver Dollars
LOCATION:Snug Harbor Jazz Bistro Frenchmen Street 626\, 70116 New Orleans\, USA
DESCRIPTION:Tickets / Eintrittskarten: https://jazz-concerts.com/de/event/43239\n\nSally Baby's Silver Dollars\n\n
END:VEVENT
END:VCALENDAR
