BEGIN:VCALENDAR
VERSION:2.0
PRODID:jazz-concerts.com
METHOD:PUBLISH
SEQUENCE:1776622568
BEGIN:VEVENT
UID:jazz-concerts.com-1-43237
DTSTAMP:20260419T201608
DTSTART:20260420T213000
DTEND:20260420T233000
SUMMARY:Charmaine Neville Band
LOCATION:Snug Harbor Jazz Bistro Frenchmen Street 626\, 70116 New Orleans\, USA
DESCRIPTION:Tickets / Eintrittskarten: https://jazz-concerts.com/de/event/43237\n\nCharmaine Neville Band\n\n
END:VEVENT
END:VCALENDAR
