BEGIN:VCALENDAR
VERSION:2.0
PRODID:jazz-concerts.com
METHOD:PUBLISH
SEQUENCE:1776639531
BEGIN:VEVENT
UID:jazz-concerts.com-1-43212
DTSTAMP:20260420T005851
DTSTART:20260902T200000
DTEND:20260902T220000
SUMMARY:Snarky Puppy
LOCATION:Fållan Hallgränd 19\, 121 62 Johanneshov\, Schweden
DESCRIPTION:Tickets / Eintrittskarten: https://jazz-concerts.com/de/event/43212\n\nSnarky Puppy\n\n
END:VEVENT
END:VCALENDAR
