BEGIN:VCALENDAR
VERSION:2.0
PRODID:jazz-concerts.com
METHOD:PUBLISH
SEQUENCE:1776844277
BEGIN:VEVENT
UID:jazz-concerts.com-1-43200
DTSTAMP:20260422T095117
DTSTART:20260624T193000
DTEND:20260624T213000
SUMMARY:John Hiatt
LOCATION:Cirkus Djurgårdsslätten 43-45\, 115 21 Stockholm\, Schweden
DESCRIPTION:Tickets / Eintrittskarten: https://jazz-concerts.com/de/event/43200\n\nJohn Hiatt\n\n
END:VEVENT
END:VCALENDAR
