BEGIN:VCALENDAR
VERSION:2.0
PRODID:jazz-concerts.com
METHOD:PUBLISH
SEQUENCE:1776831523
BEGIN:VEVENT
UID:jazz-concerts.com-1-43199
DTSTAMP:20260422T061843
DTSTART:20260422T193000
DTEND:20260422T213000
SUMMARY:Scott Bradlees Postmodern Jukebox
LOCATION:Göta Lejon Götgatan 55\, 116 21 Stockholm\, Schweden
DESCRIPTION:Tickets / Eintrittskarten: https://jazz-concerts.com/de/event/43199\n\nScott Bradlees Postmodern Jukebox\n\n
END:VEVENT
END:VCALENDAR
