BEGIN:VCALENDAR
VERSION:2.0
PRODID:jazz-concerts.com
METHOD:PUBLISH
SEQUENCE:1776618443
BEGIN:VEVENT
UID:jazz-concerts.com-1-43062
DTSTAMP:20260419T190723
DTSTART:20260616T203000
DTEND:20260616T223000
SUMMARY:Veronica Swift
LOCATION:Blue Note Tokyo 107-0062 Minato City\, Japan
DESCRIPTION:Tickets / Eintrittskarten: https://jazz-concerts.com/de/event/43062\n\nVeronica Swift\n\n
END:VEVENT
END:VCALENDAR
