BEGIN:VCALENDAR
VERSION:2.0
PRODID:jazz-concerts.com
METHOD:PUBLISH
SEQUENCE:1776646567
BEGIN:VEVENT
UID:jazz-concerts.com-1-43032
DTSTAMP:20260420T025607
DTSTART:20260529T180000
DTEND:20260529T200000
SUMMARY:Cory Henry & The Funk Apostels
LOCATION:Blue Note Tokyo 107-0062 Minato City\, Japan
DESCRIPTION:Tickets / Eintrittskarten: https://jazz-concerts.com/de/event/43032\n\nCory Henry & The Funk Apostels\n\n
END:VEVENT
END:VCALENDAR
