BEGIN:VCALENDAR
VERSION:2.0
PRODID:jazz-concerts.com
METHOD:PUBLISH
SEQUENCE:1776624088
BEGIN:VEVENT
UID:jazz-concerts.com-1-42946
DTSTAMP:20260419T204128
DTSTART:20260505T190000
DTEND:20260505T210000
SUMMARY:Makaya McCraven
LOCATION:G2 The Garage Sauchiehall Street 490\, G2 3LW Glasgow\, Vereinigtes Königreich
DESCRIPTION:Tickets / Eintrittskarten: https://jazz-concerts.com/de/event/42946\n\nMakaya McCraven\n\n
END:VEVENT
END:VCALENDAR
