BEGIN:VCALENDAR
VERSION:2.0
PRODID:jazz-concerts.com
METHOD:PUBLISH
SEQUENCE:1777138868
BEGIN:VEVENT
UID:jazz-concerts.com-1-42876
DTSTAMP:20260425T194108
DTSTART:20261107T000000
DTEND:20261107T020000
SUMMARY:10. Zwicky Stubete
LOCATION:Zwicky-Fabrik Wigartenstrasse 13\, 8117 Fällanden\, Schweiz
DESCRIPTION:Tickets / Eintrittskarten: https://jazz-concerts.com/de/event/42876\n\n10. Zwicky Stubete\n\n
END:VEVENT
END:VCALENDAR
