BEGIN:VCALENDAR
VERSION:2.0
PRODID:jazz-concerts.com
METHOD:PUBLISH
SEQUENCE:1776622571
BEGIN:VEVENT
UID:jazz-concerts.com-1-42829
DTSTAMP:20260419T201611
DTSTART:20260512T203000
DTEND:20260512T223000
SUMMARY:Focusyear Band 26
LOCATION:The Bird's Eye Jazz Club Kohlenberg 20\, 4051 Basel\, Schweiz
DESCRIPTION:Tickets / Eintrittskarten: https://jazz-concerts.com/de/event/42829\n\nFocusyear Band 26\n\n
END:VEVENT
END:VCALENDAR
