BEGIN:VCALENDAR
VERSION:2.0
PRODID:jazz-concerts.com
METHOD:PUBLISH
SEQUENCE:1776614050
BEGIN:VEVENT
UID:jazz-concerts.com-1-42828
DTSTAMP:20260419T175410
DTSTART:20260509T203000
DTEND:20260509T223000
SUMMARY:Lea Gasser 5tet
LOCATION:The Bird's Eye Jazz Club Kohlenberg 20\, 4051 Basel\, Schweiz
DESCRIPTION:Tickets / Eintrittskarten: https://jazz-concerts.com/de/event/42828\n\nLea Gasser 5tet\n\n
END:VEVENT
END:VCALENDAR
