BEGIN:VCALENDAR
VERSION:2.0
PRODID:jazz-concerts.com
METHOD:PUBLISH
SEQUENCE:1776614049
BEGIN:VEVENT
UID:jazz-concerts.com-1-42827
DTSTAMP:20260419T175409
DTSTART:20260508T203000
DTEND:20260508T223000
SUMMARY:Lea Gasser 5tet
LOCATION:The Bird's Eye Jazz Club Kohlenberg 20\, 4051 Basel\, Schweiz
DESCRIPTION:Tickets / Eintrittskarten: https://jazz-concerts.com/de/event/42827\n\nLea Gasser 5tet\n\n
END:VEVENT
END:VCALENDAR
