BEGIN:VCALENDAR
VERSION:2.0
PRODID:jazz-concerts.com
METHOD:PUBLISH
SEQUENCE:1776635501
BEGIN:VEVENT
UID:jazz-concerts.com-1-42778
DTSTAMP:20260419T235141
DTSTART:20260510T103000
DTEND:20260510T123000
SUMMARY:Fish's Jambalaya
LOCATION:Hafenhalle Hafenstraße 10\, 78462 Konstanz\, Deutschland
DESCRIPTION:Tickets / Eintrittskarten: https://jazz-concerts.com/de/event/42778\n\nFish's Jambalaya\n\n
END:VEVENT
END:VCALENDAR
