BEGIN:VCALENDAR
VERSION:2.0
PRODID:jazz-concerts.com
METHOD:PUBLISH
SEQUENCE:1776619667
BEGIN:VEVENT
UID:jazz-concerts.com-1-42652
DTSTAMP:20260419T192747
DTSTART:20260508T220000
DTEND:20260509T000000
SUMMARY:Dayramir Gonzalez / El arte del piano cubano
LOCATION:Jazzazza Jazz Club Calle Ramon y Cajal 4\, 30157 Algezares\, Spanien
DESCRIPTION:Tickets / Eintrittskarten: https://jazz-concerts.com/de/event/42652\n\nDayramir Gonzalez / El arte del piano cubano\n\n
END:VEVENT
END:VCALENDAR
