BEGIN:VCALENDAR
VERSION:2.0
PRODID:jazz-concerts.com
METHOD:PUBLISH
SEQUENCE:1776635435
BEGIN:VEVENT
UID:jazz-concerts.com-1-42648
DTSTAMP:20260419T235035
DTSTART:20260805T210000
DTEND:20260805T230000
SUMMARY:Roberto Fonseca & Vincent Ségal
LOCATION:Jazz in Marciac Place du Chevalier d'Antras 8\, 32230 Marciac\, Frankreich
DESCRIPTION:Tickets / Eintrittskarten: https://jazz-concerts.com/de/event/42648\n\nRoberto Fonseca & Vincent Ségal\n\n
END:VEVENT
END:VCALENDAR
