BEGIN:VCALENDAR
VERSION:2.0
PRODID:jazz-concerts.com
METHOD:PUBLISH
SEQUENCE:1776635435
BEGIN:VEVENT
UID:jazz-concerts.com-1-42637
DTSTAMP:20260419T235035
DTSTART:20260730T230000
DTEND:20260731T010000
SUMMARY:Ibrahim Maalouf - Trumpets of Michel-Ange
LOCATION:Jazz in Marciac Place du Chevalier d'Antras 8\, 32230 Marciac\, Frankreich
DESCRIPTION:Tickets / Eintrittskarten: https://jazz-concerts.com/de/event/42637\n\nIbrahim Maalouf - Trumpets of Michel-Ange\n\n
END:VEVENT
END:VCALENDAR
