BEGIN:VCALENDAR
VERSION:2.0
PRODID:jazz-concerts.com
METHOD:PUBLISH
SEQUENCE:1776761069
BEGIN:VEVENT
UID:jazz-concerts.com-1-42627
DTSTAMP:20260421T104429
DTSTART:20260725T210000
DTEND:20260725T230000
SUMMARY:Imany
LOCATION:Jazz in Marciac Place du Chevalier d'Antras 8\, 32230 Marciac\, Frankreich
DESCRIPTION:Tickets / Eintrittskarten: https://jazz-concerts.com/de/event/42627\n\nImany\n\n
END:VEVENT
END:VCALENDAR
